BEGIN:VCALENDAR
VERSION:2.0
PRODID:
BEGIN:VEVENT
UID:353960ls
DTSTAMP:20260423T172740Z
DTSTART:20261216T130000Z
DTEND:20261216T210000Z
SUMMARY: Online: Don Farmer's 2026 Corporate/Business Income Tax Workshop
DESCRIPTION: Significant legislative changes and ongoing technical challenges will shape 2026 business tax return preparation. In this workshop\, you’ll review the latest developments affecting corporations and non-corporate businesses\, along with key planning considerations for the upcoming filing season. Topics include major new tax legislation\, recurring compliance issues\, and areas that frequently create reporting challenges. Using practical examples and clear explanations\, this course will help you identify planning opportunities\, avoid common pitfalls and approach 2026 business returns with greater confidence.
CLASS:PUBLIC
END:VEVENT
END:VCALENDAR
