BEGIN:VCALENDAR
VERSION:2.0
PRODID:
BEGIN:VEVENT
UID:353958ls
DTSTAMP:20260423T172537Z
DTSTART:20261215T130000Z
DTEND:20261215T210000Z
SUMMARY: Online: Don Farmer's 2026 Individual Income Tax Workshop
DESCRIPTION: Major legislative changes and recurring compliance challenges make preparation essential for the 2026 filing season. In this workshop\, you'll get a comprehensive review of the latest developments affecting individual taxpayers\, along with practical planning strategies and real-world examples. The program covers new law changes as well as common problem areas practitioners face each year. You’ll leave with clear guidance\, actionable planning ideas\, and greater confidence as you head into tax season\n 
CLASS:PUBLIC
END:VEVENT
END:VCALENDAR
