BEGIN:VCALENDAR
VERSION:2.0
PRODID:
BEGIN:VEVENT
UID:353956ls
DTSTAMP:20260423T172607Z
DTSTART:20261214T130000Z
DTEND:20261214T210000Z
SUMMARY: Online: Don Farmer's 2026 Federal Tax Update
DESCRIPTION: The 2025 tax law introduces significant changes that will shape 2026 tax return preparation — and now is the time to get up to speed.In this timely update\, we’ll walk through the provisions taking effect in 2026\, along with important IRS guidance\, recent court decisions and inflation-adjusted amounts that impact planning and compliance. We’ll focus on the developments that matter most when preparing returns and advising clients. With clear explanations and practical insights\, this session will help you stay current\, spot planning opportunities and head into the 2026 filing season prepared and confident.
CLASS:PUBLIC
END:VEVENT
END:VCALENDAR
