BEGIN:VCALENDAR
VERSION:2.0
PRODID:
BEGIN:VEVENT
UID:353945ls
DTSTAMP:20260424T094057Z
DTSTART:20260826T130000Z
DTEND:20260826T144000Z
SUMMARY: VSCPA Economic Essentials Series
DESCRIPTION: Stay ahead of the forces shaping today’s economy with the VSCPA Economic Essentials Series. Led by Jeff Lewis\, this webinar series delivers clear\, relevant insights into the trends influencing business\, finance and global markets.Designed for 2026 and beyond\, each session explores both the big-picture drivers and the underlying dynamics impacting the economic landscape — with topics that evolve throughout the year to reflect what matters most right now. From shifting market conditions to emerging risks and opportunities\, you’ll gain timely analysis and practical perspective you can apply to real-world decision-making\n 
CLASS:PUBLIC
END:VEVENT
END:VCALENDAR
