BEGIN:VCALENDAR
VERSION:2.0
PRODID:
BEGIN:VEVENT
UID:352770mb
DTSTAMP:20260422T215027Z
DTSTART:20260424T140000Z
DTEND:20260424T160000Z
SUMMARY: Surgent's Where To Live in Retirement
DESCRIPTION: Deciding where to live in retirement is a challenge that involves a multitude of factors that differ for everyone. Each person and couple should evaluate their current living situation to see where their goals and lifestyles in retirement can best be met. The program covers the various factors that most people should consider when thinking about where to spend their retirement years.Delivery Method: Individual webcastCPE Credit: TaxesProgram Level: BasicThis course is being offered by a 3rd party vendor and will not be accessible on your My CPE page. Webinar access information will be emailed directly to you by Surgent McCoy.
CLASS:PUBLIC
END:VEVENT
END:VCALENDAR
