BEGIN:VCALENDAR
VERSION:2.0
PRODID:
BEGIN:VEVENT
UID:337246mb
DTSTAMP:20260425T103821Z
DTSTART:20260427T170000Z
DTEND:20260427T203000Z
SUMMARY: Surgent's Managing People Through Motivation
DESCRIPTION: Whether your employees report in every day to the floor or from an off-site network\, the success of your organization depends a great deal on the motivation they bring to the job. This program helps identify specific methods you can use to improve employee motivation. You'll learn how to use observation tools to find out what motivates your employees and you'll study classic motivational theories. The results will help you influence the behaviors of others and tweak your own behavior to improve your bottom line.Delivery Method: Individual webcastCPE Credit: Personnel / human resourcesProgram Level: BasicThis course is being offered by a 3rd party vendor and will not be accessible on your My CPE page. Webinar access information will be emailed directly to you by Surgent McCoy.
CLASS:PUBLIC
END:VEVENT
END:VCALENDAR
