BEGIN:VCALENDAR
VERSION:2.0
PRODID:
BEGIN:VEVENT
UID:337245mb
DTSTAMP:20260425T145741Z
DTSTART:20260427T130000Z
DTEND:20260427T163000Z
SUMMARY: Surgent's Accountability and Action
DESCRIPTION: Good managers know how to delegate\, but it can be a challenge to manage employees who are more interested in passing the buck than being responsible. Lack of ownership and responsibility can bog down processes and shut down projects. This workshop will help you create a game plan for building a culture of accountability with your team.Delivery Method: Individual webcastCPE Credit: Personnel / human resourcesProgram Level: BasicThis course is being offered by a 3rd party vendor and will not be accessible on your My CPE page. Webinar access information will be emailed directly to you by Surgent McCoy.
CLASS:PUBLIC
END:VEVENT
END:VCALENDAR
