BEGIN:VCALENDAR
VERSION:2.0
PRODID:
BEGIN:VEVENT
UID:334902mb
DTSTAMP:20260422T013537Z
DTSTART:20260423T180000Z
DTEND:20260423T200000Z
SUMMARY: Tax Depreciation: Review and Update
DESCRIPTION: A discussion of recent law changes that impact capitalization\, depreciation\, and disposition of assets.

This event may be a rebroadcast of a live event and the instructor will be available to answer your questions during the event.Delivery Method: Individual webcastCPE Credit: TaxesProgram Level: IntermediateThis course is being offered by a 3rd party vendor and will not be accessible on your My CPE page. Webinar access information will be emailed directly to you by CPA Crossings.
CLASS:PUBLIC
END:VEVENT
END:VCALENDAR
